BEGIN:VCALENDAR
VERSION:2.0
PRODID:-//piedmonthabitat.org//NONSGML kigkonsult.se iCalcreator 2.30.10//
CALSCALE:GREGORIAN
METHOD:PUBLISH
UID:1c07d2aa-8d34-4325-9910-3b3f3d779011
X-WR-CALDESC:Come out to the Cumberland Bazaar to shop from a variety of cr
 afters\, local vendors\, and community members.  Explore the tables and di
 scover hidden treasures\, unique items\, and bargain deals.\n\nVENDORS- RE
 NT A 10X10 SPACE TO SELL YOUR GOODS.\nCOST: $25.00\nClick on RENT A SPACE 
 button above to reserve your space and make payment by credit card.\n\nYou
  may also send a check made payable to Piedmont Habitat for Humanity\, P.O
 . Box 816\, Farmville\, VA 23901.  Please write Cumberland Bazaar in the m
 emo.\nSpaces can be rented that day if any are still available.    \n\nFoo
 d will be available for purchase to fuel your day of shopping.\n\nThis is 
 an outdoor event with a rain date of Saturday\, June 12\n\nSpace rental an
 d food sales support the mission of Habitat for safe\, decent\, affordable
  housing and repairs.  \n\n*Please observe social distance and face coveri
 ngs during the event*
X-WR-RELCALID:28f1472d0071bf4bbbe36a976f36519a
X-WR-TIMEZONE:America/New_York
BEGIN:VTIMEZONE
TZID:America/New_York
BEGIN:STANDARD
TZNAME:EST
DTSTART:20201101T020000
TZOFFSETFROM:-0400
TZOFFSETTO:-0500
RDATE:20211107T020000
RDATE:20221106T020000
END:STANDARD
BEGIN:DAYLIGHT
TZNAME:EDT
DTSTART:20210314T020000
TZOFFSETFROM:-0500
TZOFFSETTO:-0400
RDATE:20220313T020000
END:DAYLIGHT
END:VTIMEZONE
BEGIN:VEVENT
UID:09313976-1883-4ed2-b9d8-726f847f05ce
DTSTAMP:20260420T092151Z
DESCRIPTION:Come out to the Cumberland Bazaar to shop from a variety of cra
 fters\, local vendors\, and community members.  Explore the tables and dis
 cover hidden treasures\, unique items\, and bargain deals.\n\nVENDORS- REN
 T A 10X10 SPACE TO SELL YOUR GOODS.\nCOST: $25.00\nClick on RENT A SPACE b
 utton above to reserve your space and make payment by credit card.\n\nYou 
 may also send a check made payable to Piedmont Habitat for Humanity\, P.O.
  Box 816\, Farmville\, VA 23901.  Please write Cumberland Bazaar in the me
 mo.\nSpaces can be rented that day if any are still available.    \n\nFood
  will be available for purchase to fuel your day of shopping.\n\nThis is a
 n outdoor event with a rain date of Saturday\, June 12\n\nSpace rental and
  food sales support the mission of Habitat for safe\, decent\, affordable 
 housing and repairs.  \n\n*Please observe social distance and face coverin
 gs during the event*
DTSTART;TZID=America/New_York:20210605T080000
DTEND;TZID=America/New_York:20210605T140000
LOCATION:Fitzgerald Memorial Baptist Church\, 14 Fitzgerald Road\, Cumberla
 nd\, VA 23040
SUMMARY:Cumberland Bazaar
END:VEVENT
END:VCALENDAR
