BEGIN:VCALENDAR
VERSION:2.0
PRODID:-//piedmonthabitat.org//NONSGML kigkonsult.se iCalcreator 2.30.10//
CALSCALE:GREGORIAN
METHOD:PUBLISH
UID:0c2b8398-50a4-43c3-86e1-749ea8087167
X-WR-CALDESC:Join us for a night of fun\, food\, and friends. Food provided
  by The Fishin' Pig will include pork\, freshly fried pork rinds\, beverag
 es\, appetizers\, and homemade sides and desserts.  There will be vegetari
 an sides and appetizers available.  Craft beer will be provided by Third S
 treet Brewing.  Live music from local favorite Class Act will also be part
  of the fun! \n\nThank you for making a difference in the lives of our nei
 ghbors in need of safe\, decent\, affordable housing in the counties of Bu
 ckingham\, Charlotte\, Cumberland\, Nelson\, and Prince Edward.\n\nTickets
  are $30.00 per adult\, $10.00 ages 6-18\, and free for children 5 and und
 er (no ticket required).  They can be purchased by clicking the BUY TICKET
 S button above.\n\n
X-WR-RELCALID:9e9d1045de200ad264992954a8f466b2
X-WR-TIMEZONE:America/New_York
BEGIN:VTIMEZONE
TZID:America/New_York
BEGIN:STANDARD
TZNAME:EST
DTSTART:20181104T020000
TZOFFSETFROM:-0400
TZOFFSETTO:-0500
RDATE:20191103T020000
RDATE:20201101T020000
END:STANDARD
BEGIN:DAYLIGHT
TZNAME:EDT
DTSTART:20190310T020000
TZOFFSETFROM:-0500
TZOFFSETTO:-0400
RDATE:20200308T020000
RDATE:20210314T020000
END:DAYLIGHT
END:VTIMEZONE
BEGIN:VEVENT
UID:de1a136b-0199-4603-b04c-79cf1119dc84
DTSTAMP:20260422T122339Z
DESCRIPTION:Join us for a night of fun\, food\, and friends. Food provided 
 by The Fishin' Pig will include pork\, freshly fried pork rinds\, beverage
 s\, appetizers\, and homemade sides and desserts.  There will be vegetaria
 n sides and appetizers available.  Craft beer will be provided by Third St
 reet Brewing.  Live music from local favorite Class Act will also be part 
 of the fun! \n\nThank you for making a difference in the lives of our neig
 hbors in need of safe\, decent\, affordable housing in the counties of Buc
 kingham\, Charlotte\, Cumberland\, Nelson\, and Prince Edward.\n\nTickets 
 are $30.00 per adult\, $10.00 ages 6-18\, and free for children 5 and unde
 r (no ticket required).  They can be purchased by clicking the BUY TICKETS
  button above.\n\n
DTSTART;TZID=America/New_York:20190914T173000
DTEND;TZID=America/New_York:20190914T203000
LOCATION:Farmville Community Marketplace\, 213 North Street\, Farmville\, V
 A\, 23901
SUMMARY:Habitat for Humanity Pig Roast
END:VEVENT
END:VCALENDAR
