BEGIN:VCALENDAR
VERSION:2.0
PRODID:-//piedmonthabitat.org//NONSGML kigkonsult.se iCalcreator 2.30.10//
CALSCALE:GREGORIAN
METHOD:PUBLISH
UID:2d469b5e-15cb-4b9b-b401-22bc47d8982f
X-WR-CALDESC:Join us for a night of fun\, food\, and friends. Food will inc
 lude pork\, freshly fried pork rinds\, beverages\, appetizers\, and homema
 de sides and desserts.  There will be vegetarian sides and appetizers avai
 lable.  Craft beer will be provided by Third Street Brewing.  Live music f
 rom local bluegrass favorite Stoney Ridge will also be part of the fun! \n
 \nThank you for making a difference in the lives of our neighbors in need 
 of safe\, decent\, affordable housing in Prince Edward\, Buckingham\, Char
 lotte\, and Cumberland.\n\nTickets are $30.00 per adult\, $10.00 ages 6-12
 \, and free for children 5 and under (no ticket required).  They can be pu
 rchased by clicking the BUY TICKETS button above.\n\n
X-WR-RELCALID:7f84426c7eeb5b45e900d51cb914ed61
X-WR-TIMEZONE:America/New_York
BEGIN:VTIMEZONE
TZID:America/New_York
BEGIN:STANDARD
TZNAME:EST
DTSTART:20171105T020000
TZOFFSETFROM:-0400
TZOFFSETTO:-0500
RDATE:20181104T020000
RDATE:20191103T020000
END:STANDARD
BEGIN:DAYLIGHT
TZNAME:EDT
DTSTART:20180311T020000
TZOFFSETFROM:-0500
TZOFFSETTO:-0400
RDATE:20190310T020000
RDATE:20200308T020000
END:DAYLIGHT
END:VTIMEZONE
BEGIN:VEVENT
UID:2a317101-7676-41b2-9840-3d2798f01996
DTSTAMP:20260422T135811Z
DESCRIPTION:Join us for a night of fun\, food\, and friends. Food will incl
 ude pork\, freshly fried pork rinds\, beverages\, appetizers\, and homemad
 e sides and desserts.  There will be vegetarian sides and appetizers avail
 able.  Craft beer will be provided by Third Street Brewing.  Live music fr
 om local bluegrass favorite Stoney Ridge will also be part of the fun! \n
 \nThank you for making a difference in the lives of our neighbors in need 
 of safe\, decent\, affordable housing in Prince Edward\, Buckingham\, Char
 lotte\, and Cumberland.\n\nTickets are $30.00 per adult\, $10.00 ages 6-12
 \, and free for children 5 and under (no ticket required).  They can be pu
 rchased by clicking the BUY TICKETS button above.\n\n
DTSTART;TZID=America/New_York:20180922T173000
DTEND;TZID=America/New_York:20180922T203000
LOCATION:Farmville Community Marketplace\, 213 North Street\, Farmville\, V
 A\, 23901
SUMMARY:Habitat for Humanity Pig Roast
END:VEVENT
END:VCALENDAR
