BEGIN:VCALENDAR
VERSION:2.0
PRODID:-//piedmonthabitat.org//NONSGML kigkonsult.se iCalcreator 2.30.10//
CALSCALE:GREGORIAN
METHOD:PUBLISH
UID:6128ff26-80f8-4030-93ed-3cb534ebc015
X-WR-CALDESC:In the spirit of collaboration\, students from Prince Edward C
 ounty School and Fuqua School will be playing together against a team of f
 aculty and staff from both schools.  The evening will include games for st
 udents between the quarters\, pep songs from a combined school band\, chee
 rleaders\, and the Heartland Heat.  Concessions will be available\, along 
 with raffles and a silent auction.\n\nThis fun event will benefit the 'Bir
 dhouse Build'\, where both schools are working together to help build a ne
 w Habitat home with a local Prince Edward County family.
X-WR-RELCALID:e3f1c8ad5d6e519afc9bbd09c129d8f4
X-WR-TIMEZONE:America/New_York
BEGIN:VTIMEZONE
TZID:America/New_York
BEGIN:STANDARD
TZNAME:EST
DTSTART:20171105T020000
TZOFFSETFROM:-0400
TZOFFSETTO:-0500
RDATE:20181104T020000
END:STANDARD
BEGIN:DAYLIGHT
TZNAME:EDT
DTSTART:20170312T020000
TZOFFSETFROM:-0500
TZOFFSETTO:-0400
RDATE:20180311T020000
RDATE:20190310T020000
END:DAYLIGHT
END:VTIMEZONE
BEGIN:VEVENT
UID:6621a26f-c952-4fd8-91cb-14ca93d9a2b3
DTSTAMP:20260422T135508Z
DESCRIPTION:In the spirit of collaboration\, students from Prince Edward Co
 unty School and Fuqua School will be playing together against a team of fa
 culty and staff from both schools.  The evening will include games for stu
 dents between the quarters\, pep songs from a combined school band\, cheer
 leaders\, and the Heartland Heat.  Concessions will be available\, along w
 ith raffles and a silent auction.\n\nThis fun event will benefit the 'Bird
 house Build'\, where both schools are working together to help build a new
  Habitat home with a local Prince Edward County family.
DTSTART;TZID=America/New_York:20180308T190000
DTEND;TZID=America/New_York:20180308T203000
LOCATION:Willett Hall\, Longwood Univeristy
SUMMARY:Charity Basketball Game
END:VEVENT
END:VCALENDAR
